BEGIN:VCALENDAR
VERSION:2.0
PRODID:-//KIWANIS CLUB OF ROANOKE VIRGINIA - ECPv6.15.20//NONSGML v1.0//EN
CALSCALE:GREGORIAN
METHOD:PUBLISH
X-WR-CALNAME:KIWANIS CLUB OF ROANOKE VIRGINIA
X-ORIGINAL-URL:https://www.roanokekiwanisclub.org
X-WR-CALDESC:Events for KIWANIS CLUB OF ROANOKE VIRGINIA
REFRESH-INTERVAL;VALUE=DURATION:PT1H
X-Robots-Tag:noindex
X-PUBLISHED-TTL:PT1H
BEGIN:VTIMEZONE
TZID:UTC
BEGIN:STANDARD
TZOFFSETFROM:+0000
TZOFFSETTO:+0000
TZNAME:UTC
DTSTART:20230101T000000
END:STANDARD
END:VTIMEZONE
BEGIN:VEVENT
DTSTART;TZID=UTC:20240518T090000
DTEND;TZID=UTC:20240518T120000
DTSTAMP:20260422T123222
CREATED:20240219T215241Z
LAST-MODIFIED:20240317T143634Z
UID:10000607-1716022800-1716033600@www.roanokekiwanisclub.org
SUMMARY:KIDS FISHING DAY
DESCRIPTION:Meet at Hope Tree Family Services picnic shelter off of Oak Lane at 9:00am on May 18. Join kids from the West End Center for a fun time fishing\, and have lunch. Volunteers will sign in the kids\, guide fishing groups\, interact with the kids\, clean fish\, and help with the cookout. Volunteers should wear outdoor fishing/clothing and sturdy shoes. Sunscreen\, hat\, and camera are good ideas.
URL:https://www.roanokekiwanisclub.org/calendar/kids-fishing-day-2/
LOCATION:Hope Tree Family Services\, 860 Mt. Vernon Lane\, Salem\, 24153\, United States
CATEGORIES:SPECIAL PROGRAM
ATTACH;FMTTYPE=image/jpeg:https://www.roanokekiwanisclub.org/wp-content/uploads/2022/03/Kids-Fishing-Day.jpg
ORGANIZER;CN="Kiwanis Club of Roanoke":MAILTO:roanokekiwanis@gmail.com
END:VEVENT
END:VCALENDAR