BEGIN:VCALENDAR
VERSION:2.0
PRODID:-//KIWANIS CLUB OF ROANOKE VIRGINIA - ECPv6.15.20//NONSGML v1.0//EN
CALSCALE:GREGORIAN
METHOD:PUBLISH
X-WR-CALNAME:KIWANIS CLUB OF ROANOKE VIRGINIA
X-ORIGINAL-URL:https://www.roanokekiwanisclub.org
X-WR-CALDESC:Events for KIWANIS CLUB OF ROANOKE VIRGINIA
REFRESH-INTERVAL;VALUE=DURATION:PT1H
X-Robots-Tag:noindex
X-PUBLISHED-TTL:PT1H
BEGIN:VTIMEZONE
TZID:UTC
BEGIN:STANDARD
TZOFFSETFROM:+0000
TZOFFSETTO:+0000
TZNAME:UTC
DTSTART:20230101T000000
END:STANDARD
END:VTIMEZONE
BEGIN:VEVENT
DTSTART;TZID=UTC:20240322T080000
DTEND;TZID=UTC:20240322T090000
DTSTAMP:20260422T145626
CREATED:20240315T195305Z
LAST-MODIFIED:20240315T195305Z
UID:10000661-1711094400-1711098000@www.roanokekiwanisclub.org
SUMMARY:FUN DAY COMMITTEE MEETING
DESCRIPTION:Planning for the June 1\, 2024 Spring Fun Day.
URL:https://www.roanokekiwanisclub.org/calendar/fun-day-committee-meeting-10/
LOCATION:VIRTUAL
CATEGORIES:SPECIAL PROGRAM
ORGANIZER;CN="Kiwanis Club of Roanoke":MAILTO:roanokekiwanis@gmail.com
END:VEVENT
END:VCALENDAR