BEGIN:VCALENDAR
VERSION:2.0
PRODID:-//KIWANIS CLUB OF ROANOKE VIRGINIA - ECPv6.15.20//NONSGML v1.0//EN
CALSCALE:GREGORIAN
METHOD:PUBLISH
X-WR-CALNAME:KIWANIS CLUB OF ROANOKE VIRGINIA
X-ORIGINAL-URL:https://www.roanokekiwanisclub.org
X-WR-CALDESC:Events for KIWANIS CLUB OF ROANOKE VIRGINIA
REFRESH-INTERVAL;VALUE=DURATION:PT1H
X-Robots-Tag:noindex
X-PUBLISHED-TTL:PT1H
BEGIN:VTIMEZONE
TZID:UTC
BEGIN:STANDARD
TZOFFSETFROM:+0000
TZOFFSETTO:+0000
TZNAME:UTC
DTSTART:20230101T000000
END:STANDARD
END:VTIMEZONE
BEGIN:VEVENT
DTSTART;TZID=UTC:20240209T080000
DTEND;TZID=UTC:20240209T090000
DTSTAMP:20260422T205425
CREATED:20240205T182420Z
LAST-MODIFIED:20240205T195717Z
UID:10000598-1707465600-1707469200@www.roanokekiwanisclub.org
SUMMARY:FUN DAY COMMITTEE MEETING
DESCRIPTION:Planning for the June 1\, 2024 Spring Fun Day. \nZoom link:\nhttps://us02web.zoom.us/j/84451287895?pwd=OEtobXpGcU5FSVhZTnZsVWlwdURlQT09\nMeeting ID: 844 5128 7895\nPasscode: 779345
URL:https://www.roanokekiwanisclub.org/calendar/fun-day-committee-meeting-6/
LOCATION:VIRTUAL
CATEGORIES:SPECIAL PROGRAM
ORGANIZER;CN="Kiwanis Club of Roanoke":MAILTO:roanokekiwanis@gmail.com
END:VEVENT
END:VCALENDAR