BEGIN:VCALENDAR
VERSION:2.0
PRODID:-//KIWANIS CLUB OF ROANOKE VIRGINIA - ECPv6.15.20//NONSGML v1.0//EN
CALSCALE:GREGORIAN
METHOD:PUBLISH
X-ORIGINAL-URL:https://www.roanokekiwanisclub.org
X-WR-CALDESC:Events for KIWANIS CLUB OF ROANOKE VIRGINIA
REFRESH-INTERVAL;VALUE=DURATION:PT1H
X-Robots-Tag:noindex
X-PUBLISHED-TTL:PT1H
BEGIN:VTIMEZONE
TZID:UTC
BEGIN:STANDARD
TZOFFSETFROM:+0000
TZOFFSETTO:+0000
TZNAME:UTC
DTSTART:20220101T000000
END:STANDARD
END:VTIMEZONE
BEGIN:VEVENT
DTSTART;TZID=UTC:20230510T080000
DTEND;TZID=UTC:20230510T090000
DTSTAMP:20260424T024220
CREATED:20230509T165231Z
LAST-MODIFIED:20230509T165231Z
UID:10000436-1683705600-1683709200@www.roanokekiwanisclub.org
SUMMARY:FUN DAY COMMITTEE MEETING
DESCRIPTION:This planning meeting for the annual Fall Fun Day (May 20) will take place on Zoom on May 10 at 8am. \nZoom:   Meeting linkhttps://us02web.zoom.us/j/81967415602?pwd=OWpodldZaUhLakJscGdPckk5VHRCZz09\nMeeting ID: 819 6741 5602\nPasscode: 854030 \nPhone:  305-224-1968 \n 
URL:https://www.roanokekiwanisclub.org/calendar/fun-day-committee-meeting-5/
LOCATION:VIRTUAL
CATEGORIES:SPECIAL PROGRAM
ORGANIZER;CN="Kiwanis Club of Roanoke":MAILTO:roanokekiwanis@gmail.com
END:VEVENT
END:VCALENDAR