BEGIN:VCALENDAR
VERSION:2.0
PRODID:-//KIWANIS CLUB OF ROANOKE VIRGINIA - ECPv6.15.20//NONSGML v1.0//EN
CALSCALE:GREGORIAN
METHOD:PUBLISH
X-WR-CALNAME:KIWANIS CLUB OF ROANOKE VIRGINIA
X-ORIGINAL-URL:https://www.roanokekiwanisclub.org
X-WR-CALDESC:Events for KIWANIS CLUB OF ROANOKE VIRGINIA
REFRESH-INTERVAL;VALUE=DURATION:PT1H
X-Robots-Tag:noindex
X-PUBLISHED-TTL:PT1H
BEGIN:VTIMEZONE
TZID:UTC
BEGIN:STANDARD
TZOFFSETFROM:+0000
TZOFFSETTO:+0000
TZNAME:UTC
DTSTART:20220101T000000
END:STANDARD
END:VTIMEZONE
BEGIN:VEVENT
DTSTART;TZID=UTC:20230216T080000
DTEND;TZID=UTC:20230216T190000
DTSTAMP:20260424T035452
CREATED:20230213T001858Z
LAST-MODIFIED:20230213T001858Z
UID:10000424-1676534400-1676574000@www.roanokekiwanisclub.org
SUMMARY:FUN DAY COMMITTEE MEETING
DESCRIPTION:This planning meeting for the annual Fall Fun Day (May 20) will take place on Zoom on February 16 at 8am. \nJoin Zoom Meeting:\nhttps://us02web.zoom.us/j/84643216632?pwd=dUdQL1dPaU5uZ2JNOEFReHpDRjVDZz09\nMeeting ID: 815 7313 901\nPasscode: 442175
URL:https://www.roanokekiwanisclub.org/calendar/fun-day-committee-meeting/
LOCATION:VIRTUAL
CATEGORIES:SPECIAL PROGRAM
ORGANIZER;CN="Kiwanis Club of Roanoke":MAILTO:roanokekiwanis@gmail.com
END:VEVENT
END:VCALENDAR