BEGIN:VCALENDAR
VERSION:2.0
PRODID:-//KIWANIS CLUB OF ROANOKE VIRGINIA - ECPv6.15.20//NONSGML v1.0//EN
CALSCALE:GREGORIAN
METHOD:PUBLISH
X-WR-CALNAME:KIWANIS CLUB OF ROANOKE VIRGINIA
X-ORIGINAL-URL:https://www.roanokekiwanisclub.org
X-WR-CALDESC:Events for KIWANIS CLUB OF ROANOKE VIRGINIA
REFRESH-INTERVAL;VALUE=DURATION:PT1H
X-Robots-Tag:noindex
X-PUBLISHED-TTL:PT1H
BEGIN:VTIMEZONE
TZID:UTC
BEGIN:STANDARD
TZOFFSETFROM:+0000
TZOFFSETTO:+0000
TZNAME:UTC
DTSTART:20230101T000000
END:STANDARD
END:VTIMEZONE
BEGIN:VEVENT
DTSTART;TZID=UTC:20240601T110000
DTEND;TZID=UTC:20240601T150000
DTSTAMP:20260419T140319
CREATED:20230531T135548Z
LAST-MODIFIED:20240514T190114Z
UID:10000470-1717239600-1717254000@www.roanokekiwanisclub.org
SUMMARY:FUN DAY
DESCRIPTION:This year’s Fun Day will be held on Saturday\, June 1 at the Melrose Library and the Envision Center (old Melrose Library) from 11 AM – 3 PM. It will feature multiple agency and organizational activities and entertainment for children and adults\, and food and drink will be provided to an anticipated 1\,000 people in the immediate area. \nTherefore\, we will need 8 – 10 Kiwanians to help with shelter/tent set up and take down\, the distribution of portable cardboard trash cans and other such activities beginning at 8 AM that morning. We also need volunteers throughout the day at a Kiwanis exhibit table and at the Nature Park and the Welcome table. Please sign up for a shift between 8:30 to 11:30; 11:30 to 2:00 or between 1:30 and 3:30. \nFor these purposes\, our volunteer gathering place will be in front of the Melrose Library at 8AM on Saturday\, June 1. \nWe will also need the use of 4 or 5 shelters/tents in an area adjacent to the Envision Center\, so if those are available for use from our membership and friends that day\, that would be extremely helpful. \nHere is the link to the Registration Form: https://forms.office.com/r/urBM79wMdm
URL:https://www.roanokekiwanisclub.org/calendar/fun-day-2/
LOCATION:Kiwanis Nature Park\, 2502 Melrose Ave\, Roanoke\, VA\, 24017
CATEGORIES:SPECIAL PROGRAM
ATTACH;FMTTYPE=image/jpeg:https://www.roanokekiwanisclub.org/wp-content/uploads/2024/05/Fun-Day.jpg
ORGANIZER;CN="Kiwanis Club of Roanoke":MAILTO:roanokekiwanis@gmail.com
END:VEVENT
BEGIN:VEVENT
DTSTART;TZID=UTC:20240621T181500
DTEND;TZID=UTC:20240621T203000
DTSTAMP:20260419T140319
CREATED:20240612T193005Z
LAST-MODIFIED:20240612T193005Z
UID:10000679-1718993700-1719001800@www.roanokekiwanisclub.org
SUMMARY:BRIDGE BUILDERS - Salem Red Sox
DESCRIPTION:Bridge Builders event. Bridge Builders is a group comprised of members of the Shiloh Baptist Church and the Kiwanis Club of Roanoke. \nSocialize at the Salem Red Sox game on June 21. Tickets are $28.00 each. Price includes a reserved seat and a picnic buffet featuring hot dogs\, hamburgers\, baked beans\, and Pepsi products. Picnic from 6:15-8:15pm. First pitch at 7:05pm. Reservations are due by June 17.
URL:https://www.roanokekiwanisclub.org/calendar/bridge-builders-salem-red-sox/
LOCATION:Salem Red Sox\, 1008 Texas Street\, Salem\, VA\, 24153
CATEGORIES:SPECIAL PROGRAM
ATTACH;FMTTYPE=image/png:https://www.roanokekiwanisclub.org/wp-content/uploads/2024/06/Bridge-Builders.png
ORGANIZER;CN="Kiwanis Club of Roanoke":MAILTO:roanokekiwanis@gmail.com
END:VEVENT
BEGIN:VEVENT
DTSTART;TZID=UTC:20240625T180000
DTEND;TZID=UTC:20240625T200000
DTSTAMP:20260419T140319
CREATED:20240605T081258Z
LAST-MODIFIED:20240605T082314Z
UID:10000676-1719338400-1719345600@www.roanokekiwanisclub.org
SUMMARY:FUN SOCIAL - Pop Up Pizza Party
DESCRIPTION:Fun Committee event. Socialize at Mellow Mushroom on June 25 from 6-8pm. No cost is involved beyond what you order and pay for individually. This will be a good time to enjoy each other’s company. Brings your kids and family members. This will also be a good time to invite a non-Kiwanian so they can see the fun side of our Club.
URL:https://www.roanokekiwanisclub.org/calendar/fun-social-pizza/
LOCATION:Mellow Mushroom\, 2239 Franklin Road\, Roanoke\, 24014\, United States
CATEGORIES:SPECIAL PROGRAM
ATTACH;FMTTYPE=image/png:https://www.roanokekiwanisclub.org/wp-content/uploads/2024/01/Big-Fun.png
ORGANIZER;CN="Kiwanis Club of Roanoke":MAILTO:roanokekiwanis@gmail.com
END:VEVENT
BEGIN:VEVENT
DTSTART;TZID=UTC:20240628T080000
DTEND;TZID=UTC:20240628T090000
DTSTAMP:20260419T140319
CREATED:20240610T012338Z
LAST-MODIFIED:20240626T191428Z
UID:10000678-1719561600-1719565200@www.roanokekiwanisclub.org
SUMMARY:FUN DAY COMMITTEE MEETING
DESCRIPTION:Discussion of the June 1\, 2024 Spring Fun Day. \nZoom Meeting:  https://us02web.zoom.us/j/82401819681?pwd=XhrJEEcC7Ho6cXd86jK41KMWSJAVHY.1\nMeeting ID: 824 0181 9681\nPasscode: 825250\nDial In:  (312)626-6799
URL:https://www.roanokekiwanisclub.org/calendar/fun-day-committee-meeting-13/
LOCATION:VIRTUAL
CATEGORIES:SPECIAL PROGRAM
ORGANIZER;CN="Kiwanis Club of Roanoke":MAILTO:roanokekiwanis@gmail.com
END:VEVENT
END:VCALENDAR