BEGIN:VCALENDAR
VERSION:2.0
PRODID:-//KIWANIS CLUB OF ROANOKE VIRGINIA - ECPv6.15.20//NONSGML v1.0//EN
CALSCALE:GREGORIAN
METHOD:PUBLISH
X-ORIGINAL-URL:https://www.roanokekiwanisclub.org
X-WR-CALDESC:Events for KIWANIS CLUB OF ROANOKE VIRGINIA
REFRESH-INTERVAL;VALUE=DURATION:PT1H
X-Robots-Tag:noindex
X-PUBLISHED-TTL:PT1H
BEGIN:VTIMEZONE
TZID:UTC
BEGIN:STANDARD
TZOFFSETFROM:+0000
TZOFFSETTO:+0000
TZNAME:UTC
DTSTART:20220101T000000
END:STANDARD
END:VTIMEZONE
BEGIN:VEVENT
DTSTART;TZID=UTC:20231108T134500
DTEND;TZID=UTC:20231108T144500
DTSTAMP:20260423T122054
CREATED:20231110T144134Z
LAST-MODIFIED:20231110T144318Z
UID:10000574-1699451100-1699454700@www.roanokekiwanisclub.org
SUMMARY:FUN COMMITTEE
DESCRIPTION:
URL:https://www.roanokekiwanisclub.org/calendar/fun-day-committee/
LOCATION:Charter Hall\, 32 Market Square SE -Floor 3\, Roanoke\, VA\, 24011\, United States
CATEGORIES:SPECIAL PROGRAM
ORGANIZER;CN="Kiwanis Club of Roanoke":MAILTO:roanokekiwanis@gmail.com
END:VEVENT
BEGIN:VEVENT
DTSTART;TZID=UTC:20231108T170000
DTEND;TZID=UTC:20231108T180000
DTSTAMP:20260423T122054
CREATED:20231016T183510Z
LAST-MODIFIED:20231016T183936Z
UID:10000566-1699462800-1699466400@www.roanokekiwanisclub.org
SUMMARY:MEMBERSHIP SURVEY DEADLINE
DESCRIPTION:The deadline to submit this membership survey is November 8. \nWe are always improving and thinking about the future. How can we better serve you\, our members\, and our community? Our Strategic Planning Committee is asking for your help as they evaluate the previous strategic plan and create a new one for the next 5 years of our Club’s activities. \nComplete the survey in hardcopy at a Wednesday Kiwanis Club meeting or online at:  https://docs.google.com/forms/d/e/1FAIpQLSeET9MAa9KNhZpdp4sbPkqXSQC6IltnB8iyJw5PdVHlZAxOQg/viewform \n 
URL:https://www.roanokekiwanisclub.org/calendar/membership-survey-deadline/
LOCATION:Charter Hall\, 32 Market Square SE -Floor 3\, Roanoke\, VA\, 24011\, United States
CATEGORIES:SPECIAL PROGRAM
ATTACH;FMTTYPE=image/png:https://www.roanokekiwanisclub.org/wp-content/uploads/2023/10/Survey.png
ORGANIZER;CN="Kiwanis Club of Roanoke":MAILTO:roanokekiwanis@gmail.com
END:VEVENT
END:VCALENDAR