BEGIN:VCALENDAR
VERSION:2.0
PRODID:-//KIWANIS CLUB OF ROANOKE VIRGINIA - ECPv6.15.20//NONSGML v1.0//EN
CALSCALE:GREGORIAN
METHOD:PUBLISH
X-ORIGINAL-URL:https://www.roanokekiwanisclub.org
X-WR-CALDESC:Events for KIWANIS CLUB OF ROANOKE VIRGINIA
REFRESH-INTERVAL;VALUE=DURATION:PT1H
X-Robots-Tag:noindex
X-PUBLISHED-TTL:PT1H
BEGIN:VTIMEZONE
TZID:UTC
BEGIN:STANDARD
TZOFFSETFROM:+0000
TZOFFSETTO:+0000
TZNAME:UTC
DTSTART:20220101T000000
END:STANDARD
END:VTIMEZONE
BEGIN:VTIMEZONE
TZID:America/New_York
BEGIN:DAYLIGHT
TZOFFSETFROM:-0500
TZOFFSETTO:-0400
TZNAME:EDT
DTSTART:20220313T070000
END:DAYLIGHT
BEGIN:STANDARD
TZOFFSETFROM:-0400
TZOFFSETTO:-0500
TZNAME:EST
DTSTART:20221106T060000
END:STANDARD
BEGIN:DAYLIGHT
TZOFFSETFROM:-0500
TZOFFSETTO:-0400
TZNAME:EDT
DTSTART:20230312T070000
END:DAYLIGHT
BEGIN:STANDARD
TZOFFSETFROM:-0400
TZOFFSETTO:-0500
TZNAME:EST
DTSTART:20231105T060000
END:STANDARD
BEGIN:DAYLIGHT
TZOFFSETFROM:-0500
TZOFFSETTO:-0400
TZNAME:EDT
DTSTART:20240310T070000
END:DAYLIGHT
BEGIN:STANDARD
TZOFFSETFROM:-0400
TZOFFSETTO:-0500
TZNAME:EST
DTSTART:20241103T060000
END:STANDARD
END:VTIMEZONE
BEGIN:VEVENT
DTSTART;TZID=UTC:20230901T000000
DTEND;TZID=UTC:20230901T235900
DTSTAMP:20260423T151618
CREATED:20230913T222610Z
LAST-MODIFIED:20230913T222610Z
UID:10000541-1693526400-1693612740@www.roanokekiwanisclub.org
SUMMARY:SERVICE BUDGET PERIOD OPENS
DESCRIPTION:The annual service budget request period is open from September 1 to September 22.
URL:https://www.roanokekiwanisclub.org/calendar/service-budget-period-opens/
CATEGORIES:SPECIAL PROGRAM
ATTACH;FMTTYPE=image/jpeg:https://www.roanokekiwanisclub.org/wp-content/uploads/2023/09/Service.jpg
ORGANIZER;CN="Kiwanis Club of Roanoke":MAILTO:roanokekiwanis@gmail.com
END:VEVENT
BEGIN:VEVENT
DTSTART;TZID=UTC:20230919T190000
DTEND;TZID=UTC:20230919T203000
DTSTAMP:20260423T151618
CREATED:20230917T182031Z
LAST-MODIFIED:20230917T182307Z
UID:10000549-1695150000-1695155400@www.roanokekiwanisclub.org
SUMMARY:Webinar - Diversity\, Equity\, Inclusion\, Belonging & Accessibility
DESCRIPTION:Join a Capital District Kiwanis webinar about DEIBA on September 19 at 7:00pm. Use the website link provided below for more information and to register. \nRelationship building is key to success with any group or organization in today’s society. It is imperative for your club to foster an inclusive and welcoming climate for all. However\, have you ever thought about why someone may not join a club\, organization\, or team? In this training\, you will learn to understand how bias and microaggressions can affect the relationship a group can have with each other and the communities they serve. Strategies will be presented on how to create a welcoming and inclusive environment for all\, regardless of age\, race\, sex\, gender\, sexual orientation\, and socioeconomic status. Tactics will also be presented on how to intervene and address any acts of bias or microaggressions that may arise within our Kiwanis family.
URL:https://www.roanokekiwanisclub.org/calendar/webinar-diversity-equity-inclusion-belonging-accessibility/
LOCATION:VIRTUAL
CATEGORIES:SPECIAL PROGRAM
ATTACH;FMTTYPE=image/jpeg:https://www.roanokekiwanisclub.org/wp-content/uploads/2023/09/DEIBA.jpg
ORGANIZER;CN="Kiwanis Club of Roanoke":MAILTO:roanokekiwanis@gmail.com
END:VEVENT
BEGIN:VEVENT
DTSTART;TZID=UTC:20230922T000000
DTEND;TZID=UTC:20230922T235900
DTSTAMP:20260423T151618
CREATED:20230913T223400Z
LAST-MODIFIED:20230913T223400Z
UID:10000542-1695340800-1695427140@www.roanokekiwanisclub.org
SUMMARY:SERVICE BUDGET PERIOD CLOSES
DESCRIPTION:The annual service budget request period is open from September 1 to September 22.
URL:https://www.roanokekiwanisclub.org/calendar/service-budget-period-closes/
CATEGORIES:SPECIAL PROGRAM
ATTACH;FMTTYPE=image/jpeg:https://www.roanokekiwanisclub.org/wp-content/uploads/2023/09/Service.jpg
ORGANIZER;CN="Kiwanis Club of Roanoke":MAILTO:roanokekiwanis@gmail.com
END:VEVENT
BEGIN:VEVENT
DTSTART;TZID=America/New_York:20230927T170000
DTEND;TZID=America/New_York:20230927T191000
DTSTAMP:20260423T151618
CREATED:20230516T021600Z
LAST-MODIFIED:20230830T005219Z
UID:10000465-1695834000-1695841800@www.roanokekiwanisclub.org
SUMMARY:KIWANIS OFFICER INSTALLATION
DESCRIPTION:Join our Officer Installation dinner under a picnic shelter overlooking Carvins Cove from 5:00-7:10pm. We will thank our outgoing Officer and Directors\, install our new Officer and Directors\, recognize the efforts of our continuing directors\, listen to remarks from our outgoing President\, and listen to remarks from our incoming President. New Orleans gumbo\, side salad\, desert\, and drinks will be served. Bring your own seating or sit at provided picnic tables. No lunch meeting will be held this week. Please park in the lower lot; the upper lot adjacent to the pavilion is reserved for our less mobile Kiwanians. RSVP is required in advance.
URL:https://www.roanokekiwanisclub.org/calendar/kiwanis-officer-installation-2/
LOCATION:Carvins Cove\, 9644 Reservoir Road\, Roanoke\, VA\, 24014\, United States
CATEGORIES:SPECIAL PROGRAM
ATTACH;FMTTYPE=image/jpeg:https://www.roanokekiwanisclub.org/wp-content/uploads/2022/09/Officer-Installation.jpg
ORGANIZER;CN="Kiwanis Club of Roanoke":MAILTO:roanokekiwanis@gmail.com
END:VEVENT
BEGIN:VEVENT
DTSTART;TZID=UTC:20230930T170000
DTEND;TZID=UTC:20230930T180000
DTSTAMP:20260423T151618
CREATED:20230804T181859Z
LAST-MODIFIED:20230906T095058Z
UID:10000479-1696093200-1696096800@www.roanokekiwanisclub.org
SUMMARY:COMMITTEE VOLUNTEER DEADLINE
DESCRIPTION:The deadline to volunteer for a committee is September 30. The Directory will be published in October. Now\, on with the committee volunteering. \nAll forty committees for next year have been established and each has a volunteer leader. Now it is your turn. Each and every member of our Club\, and we have very active members in our Club\, each and every member of our Club can volunteer for as many committees as they wish. Just contact each individual Chair of the committees you are interested in joining. Or\, just fill in a Committee Volunteer form available at our September Club meetings. Note\, and this is important\, we are scrubbing the Directory to eliminate ghost committee members (names previously listed on a committee for people who have not been actively participating). Consequently\, this is important too\, we will not automatically carry over a name of a committee member from last year’s Directory\, you must re-volunteer. 
URL:https://www.roanokekiwanisclub.org/calendar/committee-volunteer-deadline/
LOCATION:Charter Hall\, 32 Market Square SE -Floor 3\, Roanoke\, VA\, 24011\, United States
CATEGORIES:SPECIAL PROGRAM
ATTACH;FMTTYPE=image/png:https://www.roanokekiwanisclub.org/wp-content/uploads/2023/08/Committee-Volunteers.png
ORGANIZER;CN="Kiwanis Club of Roanoke":MAILTO:roanokekiwanis@gmail.com
END:VEVENT
END:VCALENDAR