BEGIN:VCALENDAR
VERSION:2.0
PRODID:-//KIWANIS CLUB OF ROANOKE VIRGINIA - ECPv6.15.20//NONSGML v1.0//EN
CALSCALE:GREGORIAN
METHOD:PUBLISH
X-ORIGINAL-URL:https://www.roanokekiwanisclub.org
X-WR-CALDESC:Events for KIWANIS CLUB OF ROANOKE VIRGINIA
REFRESH-INTERVAL;VALUE=DURATION:PT1H
X-Robots-Tag:noindex
X-PUBLISHED-TTL:PT1H
BEGIN:VTIMEZONE
TZID:UTC
BEGIN:STANDARD
TZOFFSETFROM:+0000
TZOFFSETTO:+0000
TZNAME:UTC
DTSTART:20220101T000000
END:STANDARD
END:VTIMEZONE
BEGIN:VTIMEZONE
TZID:America/New_York
BEGIN:DAYLIGHT
TZOFFSETFROM:-0500
TZOFFSETTO:-0400
TZNAME:EDT
DTSTART:20220313T070000
END:DAYLIGHT
BEGIN:STANDARD
TZOFFSETFROM:-0400
TZOFFSETTO:-0500
TZNAME:EST
DTSTART:20221106T060000
END:STANDARD
BEGIN:DAYLIGHT
TZOFFSETFROM:-0500
TZOFFSETTO:-0400
TZNAME:EDT
DTSTART:20230312T070000
END:DAYLIGHT
BEGIN:STANDARD
TZOFFSETFROM:-0400
TZOFFSETTO:-0500
TZNAME:EST
DTSTART:20231105T060000
END:STANDARD
BEGIN:DAYLIGHT
TZOFFSETFROM:-0500
TZOFFSETTO:-0400
TZNAME:EDT
DTSTART:20240310T070000
END:DAYLIGHT
BEGIN:STANDARD
TZOFFSETFROM:-0400
TZOFFSETTO:-0500
TZNAME:EST
DTSTART:20241103T060000
END:STANDARD
END:VTIMEZONE
BEGIN:VEVENT
DTSTART;TZID=UTC:20230815T000000
DTEND;TZID=UTC:20230815T235900
DTSTAMP:20260423T164611
CREATED:20230913T221034Z
LAST-MODIFIED:20230913T221034Z
UID:10000538-1692057600-1692143940@www.roanokekiwanisclub.org
SUMMARY:GRANT PROPOSAL PERIOD CLOSES
DESCRIPTION:The annual grant proposal period is open from July 1 thru August 15. \nThe Kiwanis Club of Roanoke funds worthy projects in the Greater Roanoke Valley that support our mission of serving the children\, older adults\, and disadvantaged in our community. We also assist organizations that promote the environment and conserve our Valley’s natural resources. We give strong consideration to those projects where our Club’s members can get involved and invest their time\, talents\, and sweat equity. If you have a project that meets these criteria\, you are invited to apply for a grant. \nCheck our Grants website page for additional information.
URL:https://www.roanokekiwanisclub.org/calendar/grant-proposal-period-closes-2/
CATEGORIES:SPECIAL PROGRAM
ATTACH;FMTTYPE=image/jpeg:https://www.roanokekiwanisclub.org/wp-content/uploads/2022/05/Grant-Proposals.jpg
ORGANIZER;CN="Kiwanis Club of Roanoke":MAILTO:roanokekiwanis@gmail.com
END:VEVENT
BEGIN:VEVENT
DTSTART;TZID=America/New_York:20230831T110000
DTEND;TZID=America/New_York:20230831T120000
DTSTAMP:20260423T164611
CREATED:20230829T011221Z
LAST-MODIFIED:20230829T011351Z
UID:10000511-1693479600-1693483200@www.roanokekiwanisclub.org
SUMMARY:MILL MOUNTAIN STAR DEDICATION CEREMONY
DESCRIPTION:We are looking for a big crowd of Kiwanis members and the public to attend the Mill Mountain Star Dedication ceremony. We will be unveiling to the public the new plaque honoring the winner of this year’s Kiwanis Star auction\, Bower Heating and Air Conditioning. The Mayor and other dignitaries are expected. The press is invited. The dedication ceremony begins at 11:00am at the Star visitor platform. \nThis is an excellent opportunity to invite a guest to see some of what makes our Club special.
URL:https://www.roanokekiwanisclub.org/calendar/mill-mountain-star-dedication-ceremony/
LOCATION:Mill Mountain Star\, 2000 J B Fishburn Pkwy\, Roanoke\, Virginia\, 24014\, United States
CATEGORIES:SPECIAL PROGRAM
ATTACH;FMTTYPE=image/jpeg:https://www.roanokekiwanisclub.org/wp-content/uploads/2023/07/Star-Dedicatrion.jpg
END:VEVENT
END:VCALENDAR