BEGIN:VCALENDAR
VERSION:2.0
PRODID:-//KIWANIS CLUB OF ROANOKE VIRGINIA - ECPv6.15.20//NONSGML v1.0//EN
CALSCALE:GREGORIAN
METHOD:PUBLISH
X-ORIGINAL-URL:https://www.roanokekiwanisclub.org
X-WR-CALDESC:Events for KIWANIS CLUB OF ROANOKE VIRGINIA
REFRESH-INTERVAL;VALUE=DURATION:PT1H
X-Robots-Tag:noindex
X-PUBLISHED-TTL:PT1H
BEGIN:VTIMEZONE
TZID:UTC
BEGIN:STANDARD
TZOFFSETFROM:+0000
TZOFFSETTO:+0000
TZNAME:UTC
DTSTART:20220101T000000
END:STANDARD
END:VTIMEZONE
BEGIN:VEVENT
DTSTART;TZID=UTC:20230701T000000
DTEND;TZID=UTC:20230701T235900
DTSTAMP:20260423T181029
CREATED:20230913T220909Z
LAST-MODIFIED:20230913T220909Z
UID:10000539-1688169600-1688255940@www.roanokekiwanisclub.org
SUMMARY:GRANT PROPOSAL PERIOD OPENS
DESCRIPTION:The annual grant proposal period is open from July 1 thru August 15. \nThe Kiwanis Club of Roanoke funds worthy projects in the Greater Roanoke Valley that support our mission of serving the children\, older adults\, and disadvantaged in our community. We also assist organizations that promote the environment and conserve our Valley’s natural resources. We give strong consideration to those projects where our Club’s members can get involved and invest their time\, talents\, and sweat equity. If you have a project that meets these criteria\, you are invited to apply for a grant. \nCheck our Grants website page for additional information.
URL:https://www.roanokekiwanisclub.org/calendar/grant-proposal-period-opens-2/
CATEGORIES:SPECIAL PROGRAM
ATTACH;FMTTYPE=image/jpeg:https://www.roanokekiwanisclub.org/wp-content/uploads/2022/05/Grant-Proposals.jpg
ORGANIZER;CN="Kiwanis Club of Roanoke":MAILTO:roanokekiwanis@gmail.com
END:VEVENT
END:VCALENDAR