BEGIN:VCALENDAR
VERSION:2.0
PRODID:-//KIWANIS CLUB OF ROANOKE VIRGINIA - ECPv6.15.20//NONSGML v1.0//EN
CALSCALE:GREGORIAN
METHOD:PUBLISH
X-ORIGINAL-URL:https://www.roanokekiwanisclub.org
X-WR-CALDESC:Events for KIWANIS CLUB OF ROANOKE VIRGINIA
REFRESH-INTERVAL;VALUE=DURATION:PT1H
X-Robots-Tag:noindex
X-PUBLISHED-TTL:PT1H
BEGIN:VTIMEZONE
TZID:UTC
BEGIN:STANDARD
TZOFFSETFROM:+0000
TZOFFSETTO:+0000
TZNAME:UTC
DTSTART:20220101T000000
END:STANDARD
END:VTIMEZONE
BEGIN:VEVENT
DTSTART;TZID=UTC:20230606T190000
DTEND;TZID=UTC:20230606T203000
DTSTAMP:20260423T193808
CREATED:20230517T013722Z
LAST-MODIFIED:20230517T013852Z
UID:10000467-1686078000-1686083400@www.roanokekiwanisclub.org
SUMMARY:Webinar - Diversity\, Equity\, Inclusion\, & Belonging
DESCRIPTION:Join a Capital District Kiwanis webinar about diversity\, equity\, inclusion\, and belonging on June 6 at 7:00pm. Use the website link provided below for more information and to register.
URL:https://www.roanokekiwanisclub.org/calendar/webinar-diversity-equity-inclusion-belonging/
LOCATION:VIRTUAL
CATEGORIES:SPECIAL PROGRAM
ATTACH;FMTTYPE=image/jpeg:https://www.roanokekiwanisclub.org/wp-content/uploads/2023/05/DEI-Webinar-6-6.jpg
ORGANIZER;CN="Kiwanis Club of Roanoke":MAILTO:roanokekiwanis@gmail.com
END:VEVENT
END:VCALENDAR