BEGIN:VCALENDAR
VERSION:2.0
PRODID:-//KIWANIS CLUB OF ROANOKE VIRGINIA - ECPv6.15.20//NONSGML v1.0//EN
CALSCALE:GREGORIAN
METHOD:PUBLISH
X-WR-CALNAME:KIWANIS CLUB OF ROANOKE VIRGINIA
X-ORIGINAL-URL:https://www.roanokekiwanisclub.org
X-WR-CALDESC:Events for KIWANIS CLUB OF ROANOKE VIRGINIA
REFRESH-INTERVAL;VALUE=DURATION:PT1H
X-Robots-Tag:noindex
X-PUBLISHED-TTL:PT1H
BEGIN:VTIMEZONE
TZID:UTC
BEGIN:STANDARD
TZOFFSETFROM:+0000
TZOFFSETTO:+0000
TZNAME:UTC
DTSTART:20210101T000000
END:STANDARD
END:VTIMEZONE
BEGIN:VEVENT
DTSTART;TZID=UTC:20220812T100000
DTEND;TZID=UTC:20220812T110000
DTSTAMP:20260424T124124
CREATED:20220630T204421Z
LAST-MODIFIED:20220630T204937Z
UID:10000321-1660298400-1660302000@www.roanokekiwanisclub.org
SUMMARY:Roanoke Star Dedication
DESCRIPTION:Join us at 10am for the dedication event at the Roanoke Star on Mill Mountain when Dr. Brenda Hale will be recognized with a plaque placed at the base. Dr. Hale “won” the Star\, for a one-year period\, at the recent Kiwanis Club of Roanoke annual KPAD auction. The press will be in attendance. The public is invited.
URL:https://www.roanokekiwanisclub.org/calendar/roanoke-star-dedication/
LOCATION:Mill Mountain Star\, 2000 J B Fishburn Pkwy\, Roanoke\, Virginia\, 24014\, United States
CATEGORIES:SPECIAL PROGRAM
ATTACH;FMTTYPE=image/jpeg:https://www.roanokekiwanisclub.org/wp-content/uploads/2022/06/Star.jpg
ORGANIZER;CN="Kiwanis Club of Roanoke":MAILTO:roanokekiwanis@gmail.com
END:VEVENT
BEGIN:VEVENT
DTSTART;TZID=UTC:20220815T000000
DTEND;TZID=UTC:20220815T235900
DTSTAMP:20260424T124124
CREATED:20220524T175717Z
LAST-MODIFIED:20220717T141458Z
UID:10000319-1660521600-1660607940@www.roanokekiwanisclub.org
SUMMARY:GRANT PROPOSAL PERIOD CLOSES
DESCRIPTION:The annual grant proposal period is open from June 30 thru August 15. \nThe Kiwanis Club of Roanoke funds worthy projects in the Greater Roanoke Valley that support our mission of serving the children\, older adults\, and disadvantaged in our community. We also assist organizations that promote the environment and conserve our Valley’s natural resources. We give strong consideration to those projects where our Club’s members can get involved and invest their time\, talents\, and sweat equity. If you have a project that meets these criteria\, you are invited to apply for a grant. \nCheck our Grants website page for additional information.
URL:https://www.roanokekiwanisclub.org/calendar/grant-proposal-period-closes/
CATEGORIES:SPECIAL PROGRAM
ATTACH;FMTTYPE=image/jpeg:https://www.roanokekiwanisclub.org/wp-content/uploads/2022/05/Grant-Proposals.jpg
ORGANIZER;CN="Kiwanis Club of Roanoke":MAILTO:roanokekiwanis@gmail.com
END:VEVENT
END:VCALENDAR