BEGIN:VCALENDAR
VERSION:2.0
PRODID:-//KIWANIS CLUB OF ROANOKE VIRGINIA - ECPv6.15.20//NONSGML v1.0//EN
CALSCALE:GREGORIAN
METHOD:PUBLISH
X-WR-CALNAME:KIWANIS CLUB OF ROANOKE VIRGINIA
X-ORIGINAL-URL:https://www.roanokekiwanisclub.org
X-WR-CALDESC:Events for KIWANIS CLUB OF ROANOKE VIRGINIA
REFRESH-INTERVAL;VALUE=DURATION:PT1H
X-Robots-Tag:noindex
X-PUBLISHED-TTL:PT1H
BEGIN:VTIMEZONE
TZID:UTC
BEGIN:STANDARD
TZOFFSETFROM:+0000
TZOFFSETTO:+0000
TZNAME:UTC
DTSTART:20210101T000000
END:STANDARD
END:VTIMEZONE
BEGIN:VEVENT
DTSTART;TZID=UTC:20220701T000000
DTEND;TZID=UTC:20220701T235900
DTSTAMP:20260424T140414
CREATED:20220524T175337Z
LAST-MODIFIED:20220524T193539Z
UID:10000318-1656633600-1656719940@www.roanokekiwanisclub.org
SUMMARY:GRANT PROPOSAL PERIOD OPENS
DESCRIPTION:The annual grant proposal period is open from June 30 thru August 15. \nThe Kiwanis Club of Roanoke funds worthy projects in the Greater Roanoke Valley that support our mission of serving the children\, older adults\, and disadvantaged in our community. We also assist organizations that promote the environment and conserve our Valley’s natural resources. We give strong consideration to those projects where our Club’s members can get involved and invest their time\, talents\, and sweat equity. If you have a project that meets these criteria\, you are invited to apply for a grant. \nCheck our Grants website page for additional information.
URL:https://www.roanokekiwanisclub.org/calendar/grant-proposal-period-opens/
CATEGORIES:SPECIAL PROGRAM
ATTACH;FMTTYPE=image/jpeg:https://www.roanokekiwanisclub.org/wp-content/uploads/2022/05/Grant-Proposals.jpg
ORGANIZER;CN="Kiwanis Club of Roanoke":MAILTO:roanokekiwanis@gmail.com
END:VEVENT
BEGIN:VEVENT
DTSTART;TZID=UTC:20220720T173000
DTEND;TZID=UTC:20220720T200000
DTSTAMP:20260424T140414
CREATED:20220709T075344Z
LAST-MODIFIED:20220709T080022Z
UID:10000323-1658338200-1658347200@www.roanokekiwanisclub.org
SUMMARY:Kiwanis Interclub Event
DESCRIPTION:Join us for our annual Interclub social get-together with members of our Kiwanis Club and members from other Clubs. This is an especially good opportunity to bring family and friends. This year’s event will be a low country boil held at the picnic pavilion at Carvins Cove. Cost is $20.00 per person for non-members and $8.00 for members. RSVP is required.
URL:https://www.roanokekiwanisclub.org/calendar/kiwanis-interclub-event/
LOCATION:Carvins Cove\, 9644 Reservoir Road\, Roanoke\, VA\, 24014\, United States
CATEGORIES:SPECIAL PROGRAM
ATTACH;FMTTYPE=image/jpeg:https://www.roanokekiwanisclub.org/wp-content/uploads/2022/07/Interclub.jpg
ORGANIZER;CN="Kiwanis Club of Roanoke":MAILTO:roanokekiwanis@gmail.com
END:VEVENT
END:VCALENDAR