BEGIN:VCALENDAR
VERSION:2.0
PRODID:-//KIWANIS CLUB OF ROANOKE VIRGINIA - ECPv6.15.20//NONSGML v1.0//EN
CALSCALE:GREGORIAN
METHOD:PUBLISH
X-WR-CALNAME:KIWANIS CLUB OF ROANOKE VIRGINIA
X-ORIGINAL-URL:https://www.roanokekiwanisclub.org
X-WR-CALDESC:Events for KIWANIS CLUB OF ROANOKE VIRGINIA
REFRESH-INTERVAL;VALUE=DURATION:PT1H
X-Robots-Tag:noindex
X-PUBLISHED-TTL:PT1H
BEGIN:VTIMEZONE
TZID:UTC
BEGIN:STANDARD
TZOFFSETFROM:+0000
TZOFFSETTO:+0000
TZNAME:UTC
DTSTART:20230101T000000
END:STANDARD
END:VTIMEZONE
BEGIN:VEVENT
DTSTART;TZID=UTC:20241205T180000
DTEND;TZID=UTC:20241205T210000
DTSTAMP:20260422T185801
CREATED:20240809T111211Z
LAST-MODIFIED:20241112T161920Z
UID:10000722-1733421600-1733432400@www.roanokekiwanisclub.org
SUMMARY:SOCIAL - Mill Mountain Theater
DESCRIPTION:Join us for a social evening on December 5 at the Mill Mountain Theater. Drinks and hors d’oeuvres will be served on the second floor of the Center In The Square building just outside of the Harrison Museum beginning at 6:00pm. Annie will be performed in the Trinkle MainStage theater at 7:30pm. The cost is $50.00 for Kiwanis Club members\, family\, friends\, and guests. \nBased on Harold Gray’s beloved comic strip\, ‘Annie’ is a worldwide sensation\, winning seven Tony Awards\, including Best Musical. Featuring a cherished book and score by Tony Award winners Thomas Meehan\, Charles Strouse\, and Martin Charnin\, including the iconic ‘Tomorrow\,’ the story follows the plucky orphan Annie in 1930s New York City. Escaping the clutches of the cruel Miss Hannigan with the help of fellow orphans\, Annie embarks on an enchanting adventure\, ultimately finding a new home and family with billionaire Oliver Warbucks\, his secretary Grace Farrell\, and a lovable dog named Sandy. ‘Annie’ is the perfect family-friendly musical to brighten your holiday season.
URL:https://www.roanokekiwanisclub.org/calendar/social-mill-mountain-theater-5/
LOCATION:Center In The Square\, 1 Market Square\, Roanoke\, 24011\, United States
CATEGORIES:SOCIAL PROGRAM
ORGANIZER;CN="Kiwanis Club of Roanoke":MAILTO:roanokekiwanis@gmail.com
END:VEVENT
END:VCALENDAR