BEGIN:VCALENDAR
VERSION:2.0
PRODID:-//KIWANIS CLUB OF ROANOKE VIRGINIA - ECPv6.15.20//NONSGML v1.0//EN
CALSCALE:GREGORIAN
METHOD:PUBLISH
X-WR-CALNAME:KIWANIS CLUB OF ROANOKE VIRGINIA
X-ORIGINAL-URL:https://www.roanokekiwanisclub.org
X-WR-CALDESC:Events for KIWANIS CLUB OF ROANOKE VIRGINIA
REFRESH-INTERVAL;VALUE=DURATION:PT1H
X-Robots-Tag:noindex
X-PUBLISHED-TTL:PT1H
BEGIN:VTIMEZONE
TZID:America/New_York
BEGIN:DAYLIGHT
TZOFFSETFROM:-0500
TZOFFSETTO:-0400
TZNAME:EDT
DTSTART:20220313T070000
END:DAYLIGHT
BEGIN:STANDARD
TZOFFSETFROM:-0400
TZOFFSETTO:-0500
TZNAME:EST
DTSTART:20221106T060000
END:STANDARD
BEGIN:DAYLIGHT
TZOFFSETFROM:-0500
TZOFFSETTO:-0400
TZNAME:EDT
DTSTART:20230312T070000
END:DAYLIGHT
BEGIN:STANDARD
TZOFFSETFROM:-0400
TZOFFSETTO:-0500
TZNAME:EST
DTSTART:20231105T060000
END:STANDARD
BEGIN:DAYLIGHT
TZOFFSETFROM:-0500
TZOFFSETTO:-0400
TZNAME:EDT
DTSTART:20240310T070000
END:DAYLIGHT
BEGIN:STANDARD
TZOFFSETFROM:-0400
TZOFFSETTO:-0500
TZNAME:EST
DTSTART:20241103T060000
END:STANDARD
END:VTIMEZONE
BEGIN:VEVENT
DTSTART;TZID=America/New_York:20230104T133000
DTEND;TZID=America/New_York:20230104T140000
DTSTAMP:20260423T170240
CREATED:20221218T132832Z
LAST-MODIFIED:20230119T022047Z
UID:10000398-1672839000-1672840800@www.roanokekiwanisclub.org
SUMMARY:GROW SEEDS
DESCRIPTION:Join us immediately following the January 4 Kiwanis Club meeting at 1:30pm for a half-hour community service project. We will meet in Charter Hall to plant wildflower seeds in potting soil in empty jugs. The seeds and potting soil will be supplied. Participants are asked to bring clean and empty gallon or ½ gallon jugs\, bring sharp scissors or exacto knive\, and to take the filled jugs jugs home for the seedlings to grow. Planting will occur in the Kiwanis Nature Park Wildflower Garden in the Spring.
URL:https://www.roanokekiwanisclub.org/calendar/grow-seeds/
LOCATION:Charter Hall\, 32 Market Square SE -Floor 3\, Roanoke\, VA\, 24011\, United States
CATEGORIES:SERVICE PROJECT
ATTACH;FMTTYPE=image/jpeg:https://www.roanokekiwanisclub.org/wp-content/uploads/2022/12/Milk-Jug.jpg
ORGANIZER;CN="Kiwanis Club of Roanoke":MAILTO:roanokekiwanis@gmail.com
END:VEVENT
END:VCALENDAR