BEGIN:VCALENDAR
VERSION:2.0
PRODID:-//KIWANIS CLUB OF ROANOKE VIRGINIA - ECPv6.15.20//NONSGML v1.0//EN
CALSCALE:GREGORIAN
METHOD:PUBLISH
X-ORIGINAL-URL:https://www.roanokekiwanisclub.org
X-WR-CALDESC:Events for KIWANIS CLUB OF ROANOKE VIRGINIA
REFRESH-INTERVAL;VALUE=DURATION:PT1H
X-Robots-Tag:noindex
X-PUBLISHED-TTL:PT1H
BEGIN:VTIMEZONE
TZID:UTC
BEGIN:STANDARD
TZOFFSETFROM:+0000
TZOFFSETTO:+0000
TZNAME:UTC
DTSTART:20220101T000000
END:STANDARD
END:VTIMEZONE
BEGIN:VEVENT
DTSTART;TZID=UTC:20230422T090000
DTEND;TZID=UTC:20230422T120000
DTSTAMP:20260423T082911
CREATED:20230418T171634Z
LAST-MODIFIED:20230418T171923Z
UID:10000433-1682154000-1682164800@www.roanokekiwanisclub.org
SUMMARY:EARTH DAY
DESCRIPTION:Join Clean Vally Council as they conduct an Earth Day event at Horton Park (the site of our Kiwanis Nature Park) on April 22 from 9am-12noon.
URL:https://www.roanokekiwanisclub.org/calendar/earth-day/
LOCATION:Kiwanis Nature Park\, 2502 Melrose Ave\, Roanoke\, VA\, 24017
CATEGORIES:SERVICE PROJECT
ATTACH;FMTTYPE=image/jpeg:https://www.roanokekiwanisclub.org/wp-content/uploads/2023/04/Earth-Day.jpg
ORGANIZER;CN="Kiwanis Club of Roanoke":MAILTO:roanokekiwanis@gmail.com
END:VEVENT
END:VCALENDAR