BEGIN:VCALENDAR
VERSION:2.0
PRODID:-//KIWANIS CLUB OF ROANOKE VIRGINIA - ECPv6.15.20//NONSGML v1.0//EN
CALSCALE:GREGORIAN
METHOD:PUBLISH
X-ORIGINAL-URL:https://www.roanokekiwanisclub.org
X-WR-CALDESC:Events for KIWANIS CLUB OF ROANOKE VIRGINIA
REFRESH-INTERVAL;VALUE=DURATION:PT1H
X-Robots-Tag:noindex
X-PUBLISHED-TTL:PT1H
BEGIN:VTIMEZONE
TZID:UTC
BEGIN:STANDARD
TZOFFSETFROM:+0000
TZOFFSETTO:+0000
TZNAME:UTC
DTSTART:20210101T000000
END:STANDARD
END:VTIMEZONE
BEGIN:VEVENT
DTSTART;TZID=UTC:20220521T110000
DTEND;TZID=UTC:20220521T150000
DTSTAMP:20260424T115934
CREATED:20220310T112305Z
LAST-MODIFIED:20220322T195316Z
UID:10000313-1653130800-1653145200@www.roanokekiwanisclub.org
SUMMARY:FUN DAY AND PLANTING FESTIVAL
DESCRIPTION:Meet at the Goodwill picnic shelter for a fun day and planting festival the Kiwanis Nature Park. Volunteers should arrive by 9:30am.
URL:https://www.roanokekiwanisclub.org/calendar/fun-day-and-planting-festival/
LOCATION:Kiwanis Nature Park\, 2502 Melrose Ave\, Roanoke\, VA\, 24017
CATEGORIES:SERVICE PROJECT
ORGANIZER;CN="Kiwanis Club of Roanoke":MAILTO:roanokekiwanis@gmail.com
END:VEVENT
END:VCALENDAR