BEGIN:VCALENDAR
VERSION:2.0
PRODID:-//KIWANIS CLUB OF ROANOKE VIRGINIA - ECPv6.15.20//NONSGML v1.0//EN
CALSCALE:GREGORIAN
METHOD:PUBLISH
X-ORIGINAL-URL:https://www.roanokekiwanisclub.org
X-WR-CALDESC:Events for KIWANIS CLUB OF ROANOKE VIRGINIA
REFRESH-INTERVAL;VALUE=DURATION:PT1H
X-Robots-Tag:noindex
X-PUBLISHED-TTL:PT1H
BEGIN:VTIMEZONE
TZID:America/New_York
BEGIN:DAYLIGHT
TZOFFSETFROM:-0500
TZOFFSETTO:-0400
TZNAME:EDT
DTSTART:20240310T070000
END:DAYLIGHT
BEGIN:STANDARD
TZOFFSETFROM:-0400
TZOFFSETTO:-0500
TZNAME:EST
DTSTART:20241103T060000
END:STANDARD
BEGIN:DAYLIGHT
TZOFFSETFROM:-0500
TZOFFSETTO:-0400
TZNAME:EDT
DTSTART:20250309T070000
END:DAYLIGHT
BEGIN:STANDARD
TZOFFSETFROM:-0400
TZOFFSETTO:-0500
TZNAME:EST
DTSTART:20251102T060000
END:STANDARD
BEGIN:DAYLIGHT
TZOFFSETFROM:-0500
TZOFFSETTO:-0400
TZNAME:EDT
DTSTART:20260308T070000
END:DAYLIGHT
BEGIN:STANDARD
TZOFFSETFROM:-0400
TZOFFSETTO:-0500
TZNAME:EST
DTSTART:20261101T060000
END:STANDARD
END:VTIMEZONE
BEGIN:VTIMEZONE
TZID:UTC
BEGIN:STANDARD
TZOFFSETFROM:+0000
TZOFFSETTO:+0000
TZNAME:UTC
DTSTART:20240101T000000
END:STANDARD
END:VTIMEZONE
BEGIN:VEVENT
DTSTART;TZID=America/New_York:20251106T103000
DTEND;TZID=America/New_York:20251106T120000
DTSTAMP:20260419T092503
CREATED:20250327T014826Z
LAST-MODIFIED:20251007T130640Z
UID:10000974-1762425000-1762430400@www.roanokekiwanisclub.org
SUMMARY:OFFICER MEETING
DESCRIPTION:
URL:https://www.roanokekiwanisclub.org/calendar/officer-meeting-34/
CATEGORIES:OFFICER'S MEETING
ORGANIZER;CN="Kiwanis Club of Roanoke":MAILTO:roanokekiwanis@gmail.com
END:VEVENT
BEGIN:VEVENT
DTSTART;TZID=UTC:20251106T180000
DTEND;TZID=UTC:20251106T200000
DTSTAMP:20260419T092503
CREATED:20251022T203305Z
LAST-MODIFIED:20251022T203305Z
UID:10001262-1762452000-1762459200@www.roanokekiwanisclub.org
SUMMARY:FUN SOCIAL - Pop Up Mexican Dinner
DESCRIPTION:Fun Committee event. Socialize at the El Rodeo on Electric Road on November 6 from 6-8pm. No cost is involved beyond what you order and pay for individually. This will be a good time to enjoy each other’s company. Brings your kids and family members. This will also be a good time to invite a non-Kiwanian so they can see the fun side of our Club.
URL:https://www.roanokekiwanisclub.org/calendar/fun-social-pop-up-mexican-dinner/
LOCATION:El Rodeo\, 3280 Electric Rd\, Roanoke\, VA\, 24018\, United States
CATEGORIES:SPECIAL PROGRAM
ATTACH;FMTTYPE=image/png:https://www.roanokekiwanisclub.org/wp-content/uploads/2024/01/Big-Fun.png
ORGANIZER;CN="Kiwanis Club of Roanoke":MAILTO:roanokekiwanis@gmail.com
END:VEVENT
END:VCALENDAR