BEGIN:VCALENDAR
VERSION:2.0
PRODID:-//KIWANIS CLUB OF ROANOKE VIRGINIA - ECPv6.15.20//NONSGML v1.0//EN
CALSCALE:GREGORIAN
METHOD:PUBLISH
X-WR-CALNAME:KIWANIS CLUB OF ROANOKE VIRGINIA
X-ORIGINAL-URL:https://www.roanokekiwanisclub.org
X-WR-CALDESC:Events for KIWANIS CLUB OF ROANOKE VIRGINIA
REFRESH-INTERVAL;VALUE=DURATION:PT1H
X-Robots-Tag:noindex
X-PUBLISHED-TTL:PT1H
BEGIN:VTIMEZONE
TZID:UTC
BEGIN:STANDARD
TZOFFSETFROM:+0000
TZOFFSETTO:+0000
TZNAME:UTC
DTSTART:20220101T000000
END:STANDARD
END:VTIMEZONE
BEGIN:VEVENT
DTSTART;TZID=UTC:20231117T110000
DTEND;TZID=UTC:20231117T140000
DTSTAMP:20260422T080642
CREATED:20230915T015732Z
LAST-MODIFIED:20231023T164035Z
UID:10000548-1700218800-1700229600@www.roanokekiwanisclub.org
SUMMARY:Adult Care Center Thanksgiving
DESCRIPTION:Join us for a social time on November 17 at the Adult Care Center of Roanoke Valley. We will meet at 11:00am to set up\, serve\, and join the participants to enjoy a Thanksgiving meal. The Kiwanis Club of Roanoke was instrumental in the founding of this community resource 40 years ago\, and have been actively supporting it ever since. Wear a blue Kiwanis cap if you can.
URL:https://www.roanokekiwanisclub.org/calendar/adult-care-center-thanksgiving-2/
LOCATION:Adult Care Center\, 2321 Roanoke Boulevard\, Salem\, VA\, 24153
CATEGORIES:SOCIAL PROGRAM
ATTACH;FMTTYPE=image/jpeg:https://www.roanokekiwanisclub.org/wp-content/uploads/2022/10/Adult-Care.jpg
ORGANIZER;CN="Kiwanis Club of Roanoke":MAILTO:roanokekiwanis@gmail.com
END:VEVENT
END:VCALENDAR